BEGIN:VCALENDAR
VERSION:2.0
PRODID:-//jEvents 2.0 for Joomla//EN
CALSCALE:GREGORIAN
METHOD:PUBLISH
BEGIN:VEVENT
UID:7603115f685bbd622d14be859abbf469@feiertage-deutschland.de
CATEGORIES:Feiertag
CREATED:20251220T144845
SUMMARY:Tag der Arbeit (§)
LOCATION:Alle Bundesländer
DESCRIPTION:Der Tag der Arbeit ist ganz Deutschland ein gesetzlicher Feiertag.
DTSTAMP:20260423T000114
DTSTART;VALUE=DATE:20260501
SEQUENCE:0
TRANSP:OPAQUE
END:VEVENT
END:VCALENDAR