BEGIN:VCALENDAR
VERSION:2.0
PRODID:-//jEvents 2.0 for Joomla//EN
CALSCALE:GREGORIAN
METHOD:PUBLISH
BEGIN:VEVENT
UID:e09d13f98dee34a4f2220fd0dd3fd17f
CATEGORIES:Preussen V4
CREATED:20251225T161433
SUMMARY:Bowling
DESCRIPTION:
DTSTAMP:20260419T175019
DTSTART;VALUE=DATE:20260117
DTEND;VALUE=DATE:20260118
SEQUENCE:0
TRANSP:OPAQUE
END:VEVENT
END:VCALENDAR