BEGIN:VCALENDAR
VERSION:2.0
PRODID:-//jEvents 2.0 for Joomla//EN
CALSCALE:GREGORIAN
METHOD:PUBLISH
BEGIN:VEVENT
UID:07fba88ae7b03c47e4e2b276007371ac@feiertage-deutschland.de
CATEGORIES:Feiertag
CREATED:20251220T144856
SUMMARY:Ostermontag (§)
LOCATION:Alle Bundesländer
DESCRIPTION:Der Ostermontag ist ganz Deutschland ein gesetzlicher Feiertag. 
DTSTAMP:20260422T002148
DTSTART;VALUE=DATE:20270329
SEQUENCE:0
TRANSP:OPAQUE
END:VEVENT
END:VCALENDAR