BEGIN:VCALENDAR
VERSION:2.0
PRODID:-//jEvents 2.0 for Joomla//EN
CALSCALE:GREGORIAN
METHOD:PUBLISH
BEGIN:VEVENT
UID:d41dfcc7184c7d36a055bf5f0f263e52@feiertage-deutschland.de
CATEGORIES:Feiertag
CREATED:20251220T144856
SUMMARY:Karfreitag (§)
LOCATION:Alle Bundesländer
DESCRIPTION:Der Karfreitag ist ganz Deutschland ein gesetzlicher Feiertag.
DTSTAMP:20260421T124417
DTSTART;VALUE=DATE:20270326
SEQUENCE:0
TRANSP:OPAQUE
END:VEVENT
END:VCALENDAR