BEGIN:VCALENDAR
VERSION:2.0
PRODID:-//jEvents 2.0 for Joomla//EN
CALSCALE:GREGORIAN
METHOD:PUBLISH
BEGIN:VEVENT
UID:2bc7b5376709dec6003b834caa5021f6@feiertage-deutschland.de
CATEGORIES:Feiertag
CREATED:19700101T010000
SUMMARY:Weltkindertag (§)
LOCATION:TH
DESCRIPTION:Der Weltkindertag ist seit 2019 ein gesetzlicher Feiertag in Thüringen.
DTSTAMP:20260425T122507
DTSTART;VALUE=DATE:20190920
SEQUENCE:0
RRULE:FREQ=YEARLY;UNTIL=20261212T000000Z;INTERVAL=1
TRANSP:OPAQUE
END:VEVENT
END:VCALENDAR