BEGIN:VCALENDAR
VERSION:2.0
PRODID:-//jEvents 2.0 for Joomla//EN
CALSCALE:GREGORIAN
METHOD:PUBLISH
BEGIN:VEVENT
UID:7603115f685bbd622d14be859abbf469@feiertage-deutschland.de
CATEGORIES:Feiertag
CREATED:19700101T010000
SUMMARY:Tag der Arbeit (§)
LOCATION:Alle Bundesländer
DESCRIPTION:Der Tag der Arbeit ist ganz Deutschland ein gesetzlicher Feiertag.
DTSTAMP:20260423T000518
DTSTART;VALUE=DATE:20100501
SEQUENCE:0
RRULE:FREQ=YEARLY;UNTIL=20261212T000000Z;INTERVAL=1
TRANSP:OPAQUE
END:VEVENT
END:VCALENDAR