BEGIN:VCALENDAR
VERSION:2.0
PRODID:-//jEvents 2.0 for Joomla//EN
CALSCALE:GREGORIAN
METHOD:PUBLISH
BEGIN:VEVENT
UID:707337a4b01c6b004076d23a7315be3b@feiertage-deutschland.de
CATEGORIES:Feiertag
CREATED:19700101T010000
SUMMARY:Heilige Drei Könige (§)
LOCATION:BW\,BY\,ST
DESCRIPTION:Der Dreikönigstag ist ein gesetzlicher Feiertag in: Baden-Württemberg, Baye
 rn und Sachsen-Anhalt.
DTSTAMP:20260421T203300
DTSTART;VALUE=DATE:20100106
SEQUENCE:0
RRULE:FREQ=YEARLY;UNTIL=20261212T000000Z;INTERVAL=1
TRANSP:OPAQUE
END:VEVENT
END:VCALENDAR