BEGIN:VCALENDAR
VERSION:2.0
PRODID:-//jEvents 2.0 for Joomla//EN
CALSCALE:GREGORIAN
METHOD:PUBLISH
BEGIN:VEVENT
UID:10cfd28f47b1ad34d34b9b6caaf4d852
CATEGORIES:Preussen V4
CREATED:20250223T130435
SUMMARY:Stammtischausfahrt
DESCRIPTION:Geplant ist eine Tour nach Reuden\n
X-ALT-DESC;FMTTYPE=text/html:<p>Geplant ist eine Tour nach Reuden</p>
DTSTAMP:20260425T054959
DTSTART;VALUE=DATE:20250927
DTEND;VALUE=DATE:20250928
SEQUENCE:0
TRANSP:OPAQUE
END:VEVENT
END:VCALENDAR