BEGIN:VCALENDAR
VERSION:2.0
PRODID:-//jEvents 2.0 for Joomla//EN
CALSCALE:GREGORIAN
METHOD:PUBLISH
BEGIN:VEVENT
UID:9a565de38774e2139ea6be44f617ddce
CATEGORIES:Bavarian Cruiser
CREATED:20241110T164035
SUMMARY:START Stammtisch
LOCATION:Beilngries
DESCRIPTION:<p>unser Abschluss-Stammtisch vom November wird verschoben auf den 10. Janu
 ar 2026 als START-Stammtisch</p><p> </p><p>in diesem Jahr lassen wir (aus t
 raurigem Anlass) unserenAbschluss-Stammtisch des Jahres ausfallen und versc
 hieben diesen als START-Stammtisch auf den 10.01.2026. Wir treffen uns um 1
 7.30 Uhr in Beilngries im <a href="https://www.google.com/maps/place/Romant
 ik+Hotel+Metzgerei+Gasthof+Der+Millipp/@49.033778,11.4716077,16z/data=!3m1!
 4b1!4m9!3m8!1s0x479f0ea66a1396b7:0xb6ef3c041e614842!5m2!4m1!1i2!8m2!3d49.03
 3778!4d11.474188!16s%2Fg%2F11bccn4pgj?entry=ttu&amp;g_ep=EgoyMDI0MTEwNi4wIK
 XMDSoASAFQAw%3D%3D">Gasthaus Millipp</a>. </p><p>An diesem Stammtisch werde
 n auch wieder die Stammtisch-Sprecher gewählt, daher wäre es schön, wenn mö
 glichst viele Stammtischbrüder dazukommen würden.</p><p>Vorschläge zur Stam
 mtischsprecherwahl nimmt unser Ehrenmitglied Flo entgegen, der auch als Wah
 lleiter fungiert. Unsere bisherigen Stammtischsprecher, Gerald Staufer (Sak
 ratär) und Reiner Gerbeth, haben bereits angekündigt, sich wieder zur Wahl 
 zu stellen ........ also 2 Vorschläge gibt es damit schon mal.</p>
CONTACT:Sakratär
DTSTAMP:20260419T175014
DTSTART;VALUE=DATE:20260110
DTEND;VALUE=DATE:20260111
SEQUENCE:0
TRANSP:OPAQUE
END:VEVENT
END:VCALENDAR