BEGIN:VCALENDAR
VERSION:2.0
PRODID:-//jEvents 2.0 for Joomla//EN
CALSCALE:GREGORIAN
METHOD:PUBLISH
BEGIN:VEVENT
UID:3b8e2bfe7bfaa5578aec956f692a676b
CATEGORIES:Schwaben Cruiser
CREATED:20240327T213422
SUMMARY:SC Stammtisch September
DESCRIPTION:
DTSTAMP:20260425T122345
DTSTART;VALUE=DATE:20240921
DTEND;VALUE=DATE:20240923
SEQUENCE:0
TRANSP:OPAQUE
END:VEVENT
END:VCALENDAR